BEGIN:VCALENDAR
VERSION:2.0
PRODID:-//SG Bad Soden 1911 e.V. - ECPv6.15.18//NONSGML v1.0//EN
CALSCALE:GREGORIAN
METHOD:PUBLISH
X-ORIGINAL-URL:https://sgbadsoden.de
X-WR-CALDESC:Veranstaltungen für SG Bad Soden 1911 e.V.
REFRESH-INTERVAL;VALUE=DURATION:PT1H
X-Robots-Tag:noindex
X-PUBLISHED-TTL:PT1H
BEGIN:VTIMEZONE
TZID:Europe/Berlin
BEGIN:DAYLIGHT
TZOFFSETFROM:+0100
TZOFFSETTO:+0200
TZNAME:CEST
DTSTART:20230326T010000
END:DAYLIGHT
BEGIN:STANDARD
TZOFFSETFROM:+0200
TZOFFSETTO:+0100
TZNAME:CET
DTSTART:20231029T010000
END:STANDARD
BEGIN:DAYLIGHT
TZOFFSETFROM:+0100
TZOFFSETTO:+0200
TZNAME:CEST
DTSTART:20240331T010000
END:DAYLIGHT
BEGIN:STANDARD
TZOFFSETFROM:+0200
TZOFFSETTO:+0100
TZNAME:CET
DTSTART:20241027T010000
END:STANDARD
BEGIN:DAYLIGHT
TZOFFSETFROM:+0100
TZOFFSETTO:+0200
TZNAME:CEST
DTSTART:20250330T010000
END:DAYLIGHT
BEGIN:STANDARD
TZOFFSETFROM:+0200
TZOFFSETTO:+0100
TZNAME:CET
DTSTART:20251026T010000
END:STANDARD
END:VTIMEZONE
BEGIN:VEVENT
DTSTART;TZID=Europe/Berlin:20241103T120000
DTEND;TZID=Europe/Berlin:20241103T134500
DTSTAMP:20260424T044225
CREATED:20241022T105318Z
LAST-MODIFIED:20241022T105318Z
UID:19776-1730635200-1730641500@sgbadsoden.de
SUMMARY:SG Bad Soden III - Sterbfritz/Sannerz II
DESCRIPTION:Kreisliga C\, Schlüchtern
URL:https://sgbadsoden.de/event/sg-bad-soden-iii-sterbfritz-sannerz-ii-2/
LOCATION:Sportanlage SG Bad Soden\, Bornweg\, Bad Soden-Salmünster\, Hessen\, 63628\, Deutschland
CATEGORIES:Kreisliga C
END:VEVENT
BEGIN:VEVENT
DTSTART;TZID=Europe/Berlin:20241103T143000
DTEND;TZID=Europe/Berlin:20241103T161500
DTSTAMP:20260424T044225
CREATED:20240717T090743Z
LAST-MODIFIED:20240924T080013Z
UID:18279-1730644200-1730650500@sgbadsoden.de
SUMMARY:Hombressen/Udenh.- SG Bad Soden
DESCRIPTION:Verbandsliga Hessen Nord
URL:https://sgbadsoden.de/event/hombressen-udenh-sg-bad-soden/
LOCATION:Sportanlage in Udenhausen\, Triftweg\, Grebenstein-Udenhausen\, Hessen\, 34393\, Germany
CATEGORIES:Verbandsliga
END:VEVENT
BEGIN:VEVENT
DTSTART;TZID=Europe/Berlin:20241103T143000
DTEND;TZID=Europe/Berlin:20241103T161500
DTSTAMP:20260424T044225
CREATED:20240720T155318Z
LAST-MODIFIED:20240720T155318Z
UID:18344-1730644200-1730650500@sgbadsoden.de
SUMMARY:SG Bad Soden II - FV Horas
DESCRIPTION:Gruppenliga Fulda
URL:https://sgbadsoden.de/event/sg-bad-soden-ii-fv-horas/
LOCATION:Sportanlage SG Bad Soden\, Bornweg\, Bad Soden-Salmünster\, Hessen\, 63628\, Deutschland
CATEGORIES:Gruppenliga
END:VEVENT
END:VCALENDAR